BEGIN:VCALENDAR
VERSION:2.0
PRODID:-//Local 52 - ECPv6.15.18//NONSGML v1.0//EN
CALSCALE:GREGORIAN
METHOD:PUBLISH
X-WR-CALNAME:Local 52
X-ORIGINAL-URL:https://iueclocal52.org
X-WR-CALDESC:Events for Local 52
REFRESH-INTERVAL;VALUE=DURATION:PT1H
X-Robots-Tag:noindex
X-PUBLISHED-TTL:PT1H
BEGIN:VTIMEZONE
TZID:UTC
BEGIN:STANDARD
TZOFFSETFROM:+0000
TZOFFSETTO:+0000
TZNAME:UTC
DTSTART:20270101T000000
END:STANDARD
END:VTIMEZONE
BEGIN:VEVENT
DTSTART;TZID=UTC:20280201T180000
DTEND;TZID=UTC:20280201T190000
DTSTAMP:20260421T132417
CREATED:20241108T085100Z
LAST-MODIFIED:20241108T085100Z
UID:10000366-1833040800-1833044400@iueclocal52.org
SUMMARY:General meeting
DESCRIPTION:
URL:https://iueclocal52.org/event/general-meeting/2028-02-01/
CATEGORIES:default
END:VEVENT
BEGIN:VEVENT
DTSTART;TZID=UTC:20280307T180000
DTEND;TZID=UTC:20280307T190000
DTSTAMP:20260421T132417
CREATED:20241108T085100Z
LAST-MODIFIED:20241108T085100Z
UID:10000367-1836064800-1836068400@iueclocal52.org
SUMMARY:General meeting
DESCRIPTION:
URL:https://iueclocal52.org/event/general-meeting/2028-03-07/
CATEGORIES:default
END:VEVENT
BEGIN:VEVENT
DTSTART;TZID=UTC:20280404T180000
DTEND;TZID=UTC:20280404T190000
DTSTAMP:20260421T132417
CREATED:20241108T085100Z
LAST-MODIFIED:20241108T085100Z
UID:10000368-1838484000-1838487600@iueclocal52.org
SUMMARY:General meeting
DESCRIPTION:
URL:https://iueclocal52.org/event/general-meeting/2028-04-04/
CATEGORIES:default
END:VEVENT
BEGIN:VEVENT
DTSTART;TZID=UTC:20280502T180000
DTEND;TZID=UTC:20280502T190000
DTSTAMP:20260421T132417
CREATED:20241108T085100Z
LAST-MODIFIED:20241108T085100Z
UID:10000369-1840903200-1840906800@iueclocal52.org
SUMMARY:General meeting
DESCRIPTION:
URL:https://iueclocal52.org/event/general-meeting/2028-05-02/
CATEGORIES:default
END:VEVENT
BEGIN:VEVENT
DTSTART;TZID=UTC:20280606T180000
DTEND;TZID=UTC:20280606T190000
DTSTAMP:20260421T132417
CREATED:20241108T085100Z
LAST-MODIFIED:20241108T085100Z
UID:10000370-1843927200-1843930800@iueclocal52.org
SUMMARY:General meeting
DESCRIPTION:
URL:https://iueclocal52.org/event/general-meeting/2028-06-06/
CATEGORIES:default
END:VEVENT
BEGIN:VEVENT
DTSTART;TZID=UTC:20280704T180000
DTEND;TZID=UTC:20280704T190000
DTSTAMP:20260421T132417
CREATED:20241108T085100Z
LAST-MODIFIED:20241108T085100Z
UID:10000371-1846346400-1846350000@iueclocal52.org
SUMMARY:General meeting
DESCRIPTION:
URL:https://iueclocal52.org/event/general-meeting/2028-07-04/
CATEGORIES:default
END:VEVENT
BEGIN:VEVENT
DTSTART;TZID=UTC:20280801T180000
DTEND;TZID=UTC:20280801T190000
DTSTAMP:20260421T132417
CREATED:20241108T085100Z
LAST-MODIFIED:20241108T085100Z
UID:10000372-1848765600-1848769200@iueclocal52.org
SUMMARY:General meeting
DESCRIPTION:
URL:https://iueclocal52.org/event/general-meeting/2028-08-01/
CATEGORIES:default
END:VEVENT
BEGIN:VEVENT
DTSTART;TZID=UTC:20280905T180000
DTEND;TZID=UTC:20280905T190000
DTSTAMP:20260421T132417
CREATED:20241108T085100Z
LAST-MODIFIED:20241108T085100Z
UID:10000373-1851789600-1851793200@iueclocal52.org
SUMMARY:General meeting
DESCRIPTION:
URL:https://iueclocal52.org/event/general-meeting/2028-09-05/
CATEGORIES:default
END:VEVENT
BEGIN:VEVENT
DTSTART;TZID=UTC:20281003T180000
DTEND;TZID=UTC:20281003T190000
DTSTAMP:20260421T132417
CREATED:20241108T085100Z
LAST-MODIFIED:20241108T085100Z
UID:10000374-1854208800-1854212400@iueclocal52.org
SUMMARY:General meeting
DESCRIPTION:
URL:https://iueclocal52.org/event/general-meeting/2028-10-03/
CATEGORIES:default
END:VEVENT
BEGIN:VEVENT
DTSTART;TZID=UTC:20281107T180000
DTEND;TZID=UTC:20281107T190000
DTSTAMP:20260421T132417
CREATED:20241108T085100Z
LAST-MODIFIED:20241108T085100Z
UID:10000375-1857232800-1857236400@iueclocal52.org
SUMMARY:General meeting
DESCRIPTION:
URL:https://iueclocal52.org/event/general-meeting/2028-11-07/
CATEGORIES:default
END:VEVENT
BEGIN:VEVENT
DTSTART;TZID=UTC:20281205T180000
DTEND;TZID=UTC:20281205T190000
DTSTAMP:20260421T132417
CREATED:20241108T085100Z
LAST-MODIFIED:20241108T085100Z
UID:10000376-1859652000-1859655600@iueclocal52.org
SUMMARY:General meeting
DESCRIPTION:
URL:https://iueclocal52.org/event/general-meeting/2028-12-05/
CATEGORIES:default
END:VEVENT
BEGIN:VEVENT
DTSTART;TZID=UTC:20290102T180000
DTEND;TZID=UTC:20290102T190000
DTSTAMP:20260421T132417
CREATED:20241108T085100Z
LAST-MODIFIED:20241108T085100Z
UID:10000377-1862071200-1862074800@iueclocal52.org
SUMMARY:General meeting
DESCRIPTION:
URL:https://iueclocal52.org/event/general-meeting/2029-01-02/
CATEGORIES:default
END:VEVENT
BEGIN:VEVENT
DTSTART;TZID=UTC:20290206T180000
DTEND;TZID=UTC:20290206T190000
DTSTAMP:20260421T132417
CREATED:20241108T085100Z
LAST-MODIFIED:20241108T085100Z
UID:10000378-1865095200-1865098800@iueclocal52.org
SUMMARY:General meeting
DESCRIPTION:
URL:https://iueclocal52.org/event/general-meeting/2029-02-06/
CATEGORIES:default
END:VEVENT
BEGIN:VEVENT
DTSTART;TZID=UTC:20290306T180000
DTEND;TZID=UTC:20290306T190000
DTSTAMP:20260421T132417
CREATED:20241108T085100Z
LAST-MODIFIED:20241108T085100Z
UID:10000379-1867514400-1867518000@iueclocal52.org
SUMMARY:General meeting
DESCRIPTION:
URL:https://iueclocal52.org/event/general-meeting/2029-03-06/
CATEGORIES:default
END:VEVENT
BEGIN:VEVENT
DTSTART;TZID=UTC:20290403T180000
DTEND;TZID=UTC:20290403T190000
DTSTAMP:20260421T132417
CREATED:20241108T085100Z
LAST-MODIFIED:20241108T085100Z
UID:10000380-1869933600-1869937200@iueclocal52.org
SUMMARY:General meeting
DESCRIPTION:
URL:https://iueclocal52.org/event/general-meeting/2029-04-03/
CATEGORIES:default
END:VEVENT
BEGIN:VEVENT
DTSTART;TZID=UTC:20290501T180000
DTEND;TZID=UTC:20290501T190000
DTSTAMP:20260421T132417
CREATED:20241108T085100Z
LAST-MODIFIED:20241108T085100Z
UID:10000381-1872352800-1872356400@iueclocal52.org
SUMMARY:General meeting
DESCRIPTION:
URL:https://iueclocal52.org/event/general-meeting/2029-05-01/
CATEGORIES:default
END:VEVENT
BEGIN:VEVENT
DTSTART;TZID=UTC:20290605T180000
DTEND;TZID=UTC:20290605T190000
DTSTAMP:20260421T132417
CREATED:20241108T085100Z
LAST-MODIFIED:20241108T085100Z
UID:10000382-1875376800-1875380400@iueclocal52.org
SUMMARY:General meeting
DESCRIPTION:
URL:https://iueclocal52.org/event/general-meeting/2029-06-05/
CATEGORIES:default
END:VEVENT
BEGIN:VEVENT
DTSTART;TZID=UTC:20290703T180000
DTEND;TZID=UTC:20290703T190000
DTSTAMP:20260421T132417
CREATED:20241108T085100Z
LAST-MODIFIED:20241108T085100Z
UID:10000383-1877796000-1877799600@iueclocal52.org
SUMMARY:General meeting
DESCRIPTION:
URL:https://iueclocal52.org/event/general-meeting/2029-07-03/
CATEGORIES:default
END:VEVENT
BEGIN:VEVENT
DTSTART;TZID=UTC:20290807T180000
DTEND;TZID=UTC:20290807T190000
DTSTAMP:20260421T132417
CREATED:20241108T085100Z
LAST-MODIFIED:20241108T085100Z
UID:10000384-1880820000-1880823600@iueclocal52.org
SUMMARY:General meeting
DESCRIPTION:
URL:https://iueclocal52.org/event/general-meeting/2029-08-07/
CATEGORIES:default
END:VEVENT
BEGIN:VEVENT
DTSTART;TZID=UTC:20290904T180000
DTEND;TZID=UTC:20290904T190000
DTSTAMP:20260421T132417
CREATED:20241108T085100Z
LAST-MODIFIED:20241108T085100Z
UID:10000385-1883239200-1883242800@iueclocal52.org
SUMMARY:General meeting
DESCRIPTION:
URL:https://iueclocal52.org/event/general-meeting/2029-09-04/
CATEGORIES:default
END:VEVENT
BEGIN:VEVENT
DTSTART;TZID=UTC:20291002T180000
DTEND;TZID=UTC:20291002T190000
DTSTAMP:20260421T132417
CREATED:20241108T085100Z
LAST-MODIFIED:20241108T085100Z
UID:10000386-1885658400-1885662000@iueclocal52.org
SUMMARY:General meeting
DESCRIPTION:
URL:https://iueclocal52.org/event/general-meeting/2029-10-02/
CATEGORIES:default
END:VEVENT
BEGIN:VEVENT
DTSTART;TZID=UTC:20291106T180000
DTEND;TZID=UTC:20291106T190000
DTSTAMP:20260421T132417
CREATED:20241108T085100Z
LAST-MODIFIED:20241108T085100Z
UID:10000387-1888682400-1888686000@iueclocal52.org
SUMMARY:General meeting
DESCRIPTION:
URL:https://iueclocal52.org/event/general-meeting/2029-11-06/
CATEGORIES:default
END:VEVENT
END:VCALENDAR